BEGIN:VCALENDAR
VERSION:2.0
PRODID:-//Connections Inc - ECPv6.6.0.1//NONSGML v1.0//EN
CALSCALE:GREGORIAN
METHOD:PUBLISH
X-WR-CALNAME:Connections Inc
X-ORIGINAL-URL:https://connectionsinc.org.au
X-WR-CALDESC:Events for Connections Inc
REFRESH-INTERVAL;VALUE=DURATION:PT1H
X-Robots-Tag:noindex
X-PUBLISHED-TTL:PT1H
BEGIN:VTIMEZONE
TZID:UTC
BEGIN:STANDARD
TZOFFSETFROM:+0000
TZOFFSETTO:+0000
TZNAME:UTC
DTSTART:20250101T000000
END:STANDARD
END:VTIMEZONE
BEGIN:VEVENT
DTSTART;TZID=UTC:20251204T100000
DTEND;TZID=UTC:20251204T110000
DTSTAMP:20260423T193257
CREATED:20251118T235905Z
LAST-MODIFIED:20251118T235905Z
UID:12691-1764842400-1764846000@connectionsinc.org.au
SUMMARY:Monthly Morning Tea
DESCRIPTION:For those participants currently receiving community access supports – Come along to our monthly morning tea. Get to know other participants and workers and enjoy a nice morning out.
URL:https://connectionsinc.org.au/event/monthly-morning-tea-2/
LOCATION:Shapeshifter Cafe\, 1a/13 Beerburrum Road\, Caboolture\, QLD\, 4510\, Australia
END:VEVENT
END:VCALENDAR