BEGIN:VCALENDAR
VERSION:2.0
PRODID:-//Connections Inc - ECPv6.6.0.1//NONSGML v1.0//EN
CALSCALE:GREGORIAN
METHOD:PUBLISH
X-WR-CALNAME:Connections Inc
X-ORIGINAL-URL:https://connectionsinc.org.au
X-WR-CALDESC:Events for Connections Inc
REFRESH-INTERVAL;VALUE=DURATION:PT1H
X-Robots-Tag:noindex
X-PUBLISHED-TTL:PT1H
BEGIN:VTIMEZONE
TZID:UTC
BEGIN:STANDARD
TZOFFSETFROM:+0000
TZOFFSETTO:+0000
TZNAME:UTC
DTSTART:20250101T000000
END:STANDARD
END:VTIMEZONE
BEGIN:VEVENT
DTSTART;TZID=UTC:20251205T140000
DTEND;TZID=UTC:20251205T150000
DTSTAMP:20260423T193326
CREATED:20251119T001354Z
LAST-MODIFIED:20251126T082144Z
UID:12703-1764943200-1764946800@connectionsinc.org.au
SUMMARY:Annual General Meeting
DESCRIPTION:Connections Inc. Board of Governance invites you to our Annual General Meeting! Come and celebrate the past years achievements! \nSee our nominations for 2025/2026! \n  \n \n 
URL:https://connectionsinc.org.au/event/annual-general-meeting/
LOCATION:Caboolture Hub\, 4 Hasking Street\, Caboolture\, QLD\, 4510\, Australia
END:VEVENT
END:VCALENDAR