BEGIN:VCALENDAR
VERSION:2.0
PRODID:-//Connections Inc - ECPv6.6.0.1//NONSGML v1.0//EN
CALSCALE:GREGORIAN
METHOD:PUBLISH
X-WR-CALNAME:Connections Inc
X-ORIGINAL-URL:https://connectionsinc.org.au
X-WR-CALDESC:Events for Connections Inc
REFRESH-INTERVAL;VALUE=DURATION:PT1H
X-Robots-Tag:noindex
X-PUBLISHED-TTL:PT1H
BEGIN:VTIMEZONE
TZID:UTC
BEGIN:STANDARD
TZOFFSETFROM:+0000
TZOFFSETTO:+0000
TZNAME:UTC
DTSTART:20260101T000000
END:STANDARD
END:VTIMEZONE
BEGIN:VEVENT
DTSTART;TZID=UTC:20260205T100000
DTEND;TZID=UTC:20260205T113000
DTSTAMP:20260423T163531
CREATED:20260201T111601Z
LAST-MODIFIED:20260201T111601Z
UID:12718-1770285600-1770291000@connectionsinc.org.au
SUMMARY:Monthly Morning Tea - February
DESCRIPTION:
URL:https://connectionsinc.org.au/event/monthly-morning-tea-february/
LOCATION:Stellarossa Morayfield\, Shop 14\, Morayfield Retail Village Centre\, 177-189 Morayfield Rd\, Morayfield\, QLD\, 4506\, Australia
END:VEVENT
END:VCALENDAR