BEGIN:VCALENDAR
VERSION:2.0
PRODID:-//Connections Inc - ECPv6.6.0.1//NONSGML v1.0//EN
CALSCALE:GREGORIAN
METHOD:PUBLISH
X-WR-CALNAME:Connections Inc
X-ORIGINAL-URL:https://connectionsinc.org.au
X-WR-CALDESC:Events for Connections Inc
REFRESH-INTERVAL;VALUE=DURATION:PT1H
X-Robots-Tag:noindex
X-PUBLISHED-TTL:PT1H
BEGIN:VTIMEZONE
TZID:UTC
BEGIN:STANDARD
TZOFFSETFROM:+0000
TZOFFSETTO:+0000
TZNAME:UTC
DTSTART:20250101T000000
END:STANDARD
END:VTIMEZONE
BEGIN:VEVENT
DTSTART;TZID=UTC:20251127T100000
DTEND;TZID=UTC:20251127T120000
DTSTAMP:20260423T193354
CREATED:20251119T000201Z
LAST-MODIFIED:20251119T000619Z
UID:12695-1764237600-1764244800@connectionsinc.org.au
SUMMARY:Beach BBQ
DESCRIPTION:Beach BBQ! For participants who receive community access supports – you’re invited to join us for our monthly outing! We are headed to Banskia Beach on stunning Bribe Island\, for a lovely day at the beach! $5 will get you a snag and a cold drink!
URL:https://connectionsinc.org.au/event/beach-bbq/
LOCATION:Banksia Beach
END:VEVENT
END:VCALENDAR